BEGIN:VCALENDAR
VERSION:2.0
METHOD:PUBLISH
BEGIN:VEVENT
DTSTART:20201130T080000Z
DTEND:20201202T160000Z
DTSTAMP:20260420T003354Z
SEQUENCE:0
STATUS:CONFIRMED
SUMMARY:FSV-Seminar: Kommunale Straßen - Block B
DESCRIPTION:Die Seminarreihe bietet Interessierten die einmalige Möglichkeit sich von der Planung über den Straßenbetrieb bis zur Erhaltung – speziell zugeschnitten auf den kommunalen und ländlichen Bereich – zeitsparend, kompetent und praxisorientiert zu informieren. Dabei können Sie tageweise jene Themen auswählen, die für Sie von besonderem Interesse sind oder Sie buchen das gesamte Seminar, um umfassend informiert zu werden.   
LOCATION:Forschungsgesellschaft Straße - Schiene - Verkehr, 4. Stock, Zimmer 402, Karlsgasse 5, 1040 Wien
UID:50d74334-b328-4078-a373-93d6c9b9c561
CLASS:PUBLIC
TRANSP:OPAQUE
END:VEVENT
END:VCALENDAR
